BEGIN:VCALENDAR
VERSION:2.0
PRODID:-//CPA 360 - ECPv6.15.18//NONSGML v1.0//EN
CALSCALE:GREGORIAN
METHOD:PUBLISH
X-WR-CALNAME:CPA 360
X-ORIGINAL-URL:https://cpa360leadership.com
X-WR-CALDESC:Events for CPA 360
REFRESH-INTERVAL;VALUE=DURATION:PT1H
X-Robots-Tag:noindex
X-PUBLISHED-TTL:PT1H
BEGIN:VTIMEZONE
TZID:America/New_York
BEGIN:DAYLIGHT
TZOFFSETFROM:-0500
TZOFFSETTO:-0400
TZNAME:EDT
DTSTART:20250309T070000
END:DAYLIGHT
BEGIN:STANDARD
TZOFFSETFROM:-0400
TZOFFSETTO:-0500
TZNAME:EST
DTSTART:20251102T060000
END:STANDARD
BEGIN:DAYLIGHT
TZOFFSETFROM:-0500
TZOFFSETTO:-0400
TZNAME:EDT
DTSTART:20260308T070000
END:DAYLIGHT
BEGIN:STANDARD
TZOFFSETFROM:-0400
TZOFFSETTO:-0500
TZNAME:EST
DTSTART:20261101T060000
END:STANDARD
BEGIN:DAYLIGHT
TZOFFSETFROM:-0500
TZOFFSETTO:-0400
TZNAME:EDT
DTSTART:20270314T070000
END:DAYLIGHT
BEGIN:STANDARD
TZOFFSETFROM:-0400
TZOFFSETTO:-0500
TZNAME:EST
DTSTART:20271107T060000
END:STANDARD
END:VTIMEZONE
BEGIN:VEVENT
DTSTART;TZID=America/New_York:20260520T110000
DTEND;TZID=America/New_York:20260520T120000
DTSTAMP:20260420T071155
CREATED:20260401T181401Z
LAST-MODIFIED:20260408T144050Z
UID:3695-1779274800-1779278400@cpa360leadership.com
SUMMARY:CPA Tax Manager Monthly Meeting - May
DESCRIPTION:Welcome to the CPA 360 Tax Manager Monthly Meeting for May. \nAgenda is coming.
URL:https://cpa360leadership.com/event/cpa-tax-manager-monthly-meeting-may/
LOCATION:https://teams.microsoft.com/l/meetup-join/19%3ameeting_YWZhYTI3NWQtMTZkMi00MjVjLTljOTAtYTgzZTJjODhhNTQ1%40thread.v2/0?context=%7b%22Tid%22%3a%228f8ad909-626d-479c-96ee-e5da8365d4d8%22%2c%22Oid%22%3a%2275cbd419-e21b-4a9e-805d-5ad0e4d0e984%22%7d
END:VEVENT
END:VCALENDAR