BEGIN:VCALENDAR
VERSION:2.0
PRODID:-//CPA 360 - ECPv6.15.18//NONSGML v1.0//EN
CALSCALE:GREGORIAN
METHOD:PUBLISH
X-WR-CALNAME:CPA 360
X-ORIGINAL-URL:https://cpa360leadership.com
X-WR-CALDESC:Events for CPA 360
REFRESH-INTERVAL;VALUE=DURATION:PT1H
X-Robots-Tag:noindex
X-PUBLISHED-TTL:PT1H
BEGIN:VTIMEZONE
TZID:America/New_York
BEGIN:DAYLIGHT
TZOFFSETFROM:-0500
TZOFFSETTO:-0400
TZNAME:EDT
DTSTART:20250309T070000
END:DAYLIGHT
BEGIN:STANDARD
TZOFFSETFROM:-0400
TZOFFSETTO:-0500
TZNAME:EST
DTSTART:20251102T060000
END:STANDARD
BEGIN:DAYLIGHT
TZOFFSETFROM:-0500
TZOFFSETTO:-0400
TZNAME:EDT
DTSTART:20260308T070000
END:DAYLIGHT
BEGIN:STANDARD
TZOFFSETFROM:-0400
TZOFFSETTO:-0500
TZNAME:EST
DTSTART:20261101T060000
END:STANDARD
BEGIN:DAYLIGHT
TZOFFSETFROM:-0500
TZOFFSETTO:-0400
TZNAME:EDT
DTSTART:20270314T070000
END:DAYLIGHT
BEGIN:STANDARD
TZOFFSETFROM:-0400
TZOFFSETTO:-0500
TZNAME:EST
DTSTART:20271107T060000
END:STANDARD
END:VTIMEZONE
BEGIN:VEVENT
DTSTART;TZID=America/New_York:20260527T110000
DTEND;TZID=America/New_York:20260527T120000
DTSTAMP:20260420T102157
CREATED:20260408T143625Z
LAST-MODIFIED:20260408T143625Z
UID:3699-1779879600-1779883200@cpa360leadership.com
SUMMARY:CPA 360 Audit Manager Monthly Meeting - May
DESCRIPTION:Welcome to the CPA 360 Audit Manager Monthly Meeting – May \nAgenda coming soon.
URL:https://cpa360leadership.com/event/cpa-360-audit-manager-monthly-meeting-may/
LOCATION:
END:VEVENT
END:VCALENDAR