BEGIN:VCALENDAR
VERSION:2.0
PRODID:-//CPA 360 - ECPv6.15.18//NONSGML v1.0//EN
CALSCALE:GREGORIAN
METHOD:PUBLISH
X-WR-CALNAME:CPA 360
X-ORIGINAL-URL:https://cpa360leadership.com
X-WR-CALDESC:Events for CPA 360
REFRESH-INTERVAL;VALUE=DURATION:PT1H
X-Robots-Tag:noindex
X-PUBLISHED-TTL:PT1H
BEGIN:VTIMEZONE
TZID:America/New_York
BEGIN:DAYLIGHT
TZOFFSETFROM:-0500
TZOFFSETTO:-0400
TZNAME:EDT
DTSTART:20250309T070000
END:DAYLIGHT
BEGIN:STANDARD
TZOFFSETFROM:-0400
TZOFFSETTO:-0500
TZNAME:EST
DTSTART:20251102T060000
END:STANDARD
BEGIN:DAYLIGHT
TZOFFSETFROM:-0500
TZOFFSETTO:-0400
TZNAME:EDT
DTSTART:20260308T070000
END:DAYLIGHT
BEGIN:STANDARD
TZOFFSETFROM:-0400
TZOFFSETTO:-0500
TZNAME:EST
DTSTART:20261101T060000
END:STANDARD
BEGIN:DAYLIGHT
TZOFFSETFROM:-0500
TZOFFSETTO:-0400
TZNAME:EDT
DTSTART:20270314T070000
END:DAYLIGHT
BEGIN:STANDARD
TZOFFSETFROM:-0400
TZOFFSETTO:-0500
TZNAME:EST
DTSTART:20271107T060000
END:STANDARD
END:VTIMEZONE
BEGIN:VEVENT
DTSTART;TZID=America/New_York:20260624T110000
DTEND;TZID=America/New_York:20260624T120000
DTSTAMP:20260420T173141
CREATED:20260408T201227Z
LAST-MODIFIED:20260408T204925Z
UID:3710-1782298800-1782302400@cpa360leadership.com
SUMMARY:CPA 360 Audit Manager Monthly Meeting - June
DESCRIPTION:Welcome to CPA 360 Audit Manager Monthly Meeting – June \nAgenda coming soon.
URL:https://cpa360leadership.com/event/cpa-360-audit-manager-monthly-meeting-june/
LOCATION:https://teams.microsoft.com/l/meetup-join/19%3ameeting_NWJhMzEyOTMtZWI3My00ODcyLWJkMzYtYmY3MjBjY2Q3MTdk%40thread.v2/0?context=%7b%22Tid%22%3a%228f8ad909-626d-479c-96ee-e5da8365d4d8%22%2c%22Oid%22%3a%22656b676d-97b8-4a6a-9b5c-f909c869b473%22%7d
END:VEVENT
END:VCALENDAR