BEGIN:VCALENDAR
VERSION:2.0
PRODID:-//CPA 360 - ECPv6.15.18//NONSGML v1.0//EN
CALSCALE:GREGORIAN
METHOD:PUBLISH
X-WR-CALNAME:CPA 360
X-ORIGINAL-URL:https://cpa360leadership.com
X-WR-CALDESC:Events for CPA 360
REFRESH-INTERVAL;VALUE=DURATION:PT1H
X-Robots-Tag:noindex
X-PUBLISHED-TTL:PT1H
BEGIN:VTIMEZONE
TZID:America/New_York
BEGIN:DAYLIGHT
TZOFFSETFROM:-0500
TZOFFSETTO:-0400
TZNAME:EDT
DTSTART:20250309T070000
END:DAYLIGHT
BEGIN:STANDARD
TZOFFSETFROM:-0400
TZOFFSETTO:-0500
TZNAME:EST
DTSTART:20251102T060000
END:STANDARD
BEGIN:DAYLIGHT
TZOFFSETFROM:-0500
TZOFFSETTO:-0400
TZNAME:EDT
DTSTART:20260308T070000
END:DAYLIGHT
BEGIN:STANDARD
TZOFFSETFROM:-0400
TZOFFSETTO:-0500
TZNAME:EST
DTSTART:20261101T060000
END:STANDARD
BEGIN:DAYLIGHT
TZOFFSETFROM:-0500
TZOFFSETTO:-0400
TZNAME:EDT
DTSTART:20270314T070000
END:DAYLIGHT
BEGIN:STANDARD
TZOFFSETFROM:-0400
TZOFFSETTO:-0500
TZNAME:EST
DTSTART:20271107T060000
END:STANDARD
END:VTIMEZONE
BEGIN:VEVENT
DTSTART;TZID=America/New_York:20261026T130000
DTEND;TZID=America/New_York:20261026T140000
DTSTAMP:20260422T033212
CREATED:20260409T170237Z
LAST-MODIFIED:20260409T170237Z
UID:3754-1793019600-1793023200@cpa360leadership.com
SUMMARY:CPA 360 Admin Monthly Meeting - October
DESCRIPTION:Welcome to CPA 360 Admin Monthly Meeting for October \nAgenda coming soon
URL:https://cpa360leadership.com/event/cpa-360-admin-monthly-meeting-october/
LOCATION:
END:VEVENT
END:VCALENDAR